BEGIN:VCALENDAR
VERSION:2.0
PRODID:-//圣地亚哥美食指南 - ECPv6.15.18//NONSGML v1.0//EN
CALSCALE:GREGORIAN
METHOD:PUBLISH
X-WR-CALNAME:圣地亚哥美食指南
X-ORIGINAL-URL:https://sdfoodguide.com
X-WR-CALDESC:圣地亚哥美食指南的活动
REFRESH-INTERVAL;VALUE=DURATION:PT1H
X-Robots-Tag:noindex
X-PUBLISHED-TTL:PT1H
BEGIN:VTIMEZONE
TZID:America/Los_Angeles
BEGIN:DAYLIGHT
TZOFFSETFROM:-0800
TZOFFSETTO:-0700
TZNAME:PDT
DTSTART:20150308T100000
END:DAYLIGHT
BEGIN:STANDARD
TZOFFSETFROM:-0700
TZOFFSETTO:-0800
TZNAME:PST
DTSTART:20151101T090000
END:STANDARD
BEGIN:DAYLIGHT
TZOFFSETFROM:-0800
TZOFFSETTO:-0700
TZNAME:PDT
DTSTART:20160313T100000
END:DAYLIGHT
BEGIN:STANDARD
TZOFFSETFROM:-0700
TZOFFSETTO:-0800
TZNAME:PST
DTSTART:20161106T090000
END:STANDARD
BEGIN:DAYLIGHT
TZOFFSETFROM:-0800
TZOFFSETTO:-0700
TZNAME:PDT
DTSTART:20170312T100000
END:DAYLIGHT
BEGIN:STANDARD
TZOFFSETFROM:-0700
TZOFFSETTO:-0800
TZNAME:PST
DTSTART:20171105T090000
END:STANDARD
END:VTIMEZONE
BEGIN:VEVENT
DTSTART;TZID=America/Los_Angeles:20161112T120000
DTEND;TZID=America/Los_Angeles:20161120T200000
DTSTAMP:20260423T154854
CREATED:20161113T212503Z
LAST-MODIFIED:20161113T212548Z
UID:1222-1478952000-1479672000@sdfoodguide.com
SUMMARY:亚洲美食节登陆圣地亚哥汉亚龙H-MART超市
DESCRIPTION:汉亚龙集团H-mart超市（又称韩亚龙）圣地亚哥Mira Mesa分店自11月11日起至11月20日举办“亚洲美食节”（Asian Food Fair），十多家供应商在店内摆摊，介绍产品并提供试吃。 \n该Hmart分店经理Won Kye介绍，这次摆出的摊位包括韩国、中国、越南、日本、菲律宾等多族裔特色商品。很多供货商从外地派人来参加。“美食节”期间，天天都有指定商品推出限量购买的优惠价。 \n美食节活动时间：\n11/12 (周六) 及11/19 (周日)，上午11点至下午6点，抽奖，儿童脸绘等活动。\n11/11 (周五) ~ 11/14 (周一) 及11/17 (周四) ~ 11/20 (周日)，美食试吃摊位。 \n地址：9440 Mira Mesa Blvd\, San Diego\, CA 92126 \nHmart超市圣地亚哥Mira Mesa分店开张已有4年。其商品从生鲜蔬果到生活日常用品，琳琅满目。汉亚龙集团表示，Hmart超市“提供优质新鲜的食材”，并致力“让顾客体验干净整洁的购物环境。”
URL:https://sdfoodguide.com/event/asian-food-fair-sandiego-hmart/
LOCATION:H-Mart Mira Mesa\, 9440 Mira Mesa Blvd\, San Diego\, California\, 92126\, 美国
CATEGORIES:亚洲美食节,美食节
ATTACH;FMTTYPE=image/jpeg:https://sdfoodguide.com/wp-content/uploads/2016/11/1611122016162371.jpg
END:VEVENT
END:VCALENDAR