BEGIN:VCALENDAR
VERSION:2.0
PRODID:-//圣地亚哥美食指南 - ECPv6.15.18//NONSGML v1.0//EN
CALSCALE:GREGORIAN
METHOD:PUBLISH
X-ORIGINAL-URL:https://sdfoodguide.com
X-WR-CALDESC:圣地亚哥美食指南的活动
REFRESH-INTERVAL;VALUE=DURATION:PT1H
X-Robots-Tag:noindex
X-PUBLISHED-TTL:PT1H
BEGIN:VTIMEZONE
TZID:America/Los_Angeles
BEGIN:DAYLIGHT
TZOFFSETFROM:-0800
TZOFFSETTO:-0700
TZNAME:PDT
DTSTART:20160313T100000
END:DAYLIGHT
BEGIN:STANDARD
TZOFFSETFROM:-0700
TZOFFSETTO:-0800
TZNAME:PST
DTSTART:20161106T090000
END:STANDARD
BEGIN:DAYLIGHT
TZOFFSETFROM:-0800
TZOFFSETTO:-0700
TZNAME:PDT
DTSTART:20170312T100000
END:DAYLIGHT
BEGIN:STANDARD
TZOFFSETFROM:-0700
TZOFFSETTO:-0800
TZNAME:PST
DTSTART:20171105T090000
END:STANDARD
BEGIN:DAYLIGHT
TZOFFSETFROM:-0800
TZOFFSETTO:-0700
TZNAME:PDT
DTSTART:20180311T100000
END:DAYLIGHT
BEGIN:STANDARD
TZOFFSETFROM:-0700
TZOFFSETTO:-0800
TZNAME:PST
DTSTART:20181104T090000
END:STANDARD
END:VTIMEZONE
BEGIN:VTIMEZONE
TZID:America/Denver
BEGIN:DAYLIGHT
TZOFFSETFROM:-0700
TZOFFSETTO:-0600
TZNAME:MDT
DTSTART:20160313T090000
END:DAYLIGHT
BEGIN:STANDARD
TZOFFSETFROM:-0600
TZOFFSETTO:-0700
TZNAME:MST
DTSTART:20161106T080000
END:STANDARD
BEGIN:DAYLIGHT
TZOFFSETFROM:-0700
TZOFFSETTO:-0600
TZNAME:MDT
DTSTART:20170312T090000
END:DAYLIGHT
BEGIN:STANDARD
TZOFFSETFROM:-0600
TZOFFSETTO:-0700
TZNAME:MST
DTSTART:20171105T080000
END:STANDARD
BEGIN:DAYLIGHT
TZOFFSETFROM:-0700
TZOFFSETTO:-0600
TZNAME:MDT
DTSTART:20180311T090000
END:DAYLIGHT
BEGIN:STANDARD
TZOFFSETFROM:-0600
TZOFFSETTO:-0700
TZNAME:MST
DTSTART:20181104T080000
END:STANDARD
END:VTIMEZONE
BEGIN:VEVENT
DTSTART;TZID=America/Los_Angeles:20171103T080000
DTEND;TZID=America/Los_Angeles:20171112T220000
DTSTAMP:20260423T151338
CREATED:20161104T190249Z
LAST-MODIFIED:20170502T035201Z
UID:1197-1509696000-1510524000@sdfoodguide.com
SUMMARY:San Diego Beer Week 2017年圣地亚哥啤酒周
DESCRIPTION:每年一度的圣地亚哥啤酒周San Diego Beer Week！\n长达10天的啤酒庆典从11月3日（星期五）到11月12日（星期日），有数十家各类啤酒厂商参加庆典，让您一次喝个够！ \n圣地亚哥县内共有月120家啤酒酿造厂，已被誉为“精酿啤酒之都”（Capital of Craft Beer）。啤酒周已广受追捧，规模逐年扩大。爱好啤酒的朋友们，千万不要错过！
URL:https://sdfoodguide.com/event/san-diego-beer-week/
LOCATION:多个地点\, San Diego\, California\, 美国
CATEGORIES:啤酒节
ATTACH;FMTTYPE=image/jpeg:https://sdfoodguide.com/wp-content/uploads/2017/05/Sandiego-beerweek1.jpg
END:VEVENT
BEGIN:VEVENT
DTSTART;TZID=America/Denver:20170909T120000
DTEND;TZID=America/Denver:20170909T163000
DTSTAMP:20260423T151338
CREATED:20160910T124145Z
LAST-MODIFIED:20170502T054006Z
UID:770-1504958400-1504974600@sdfoodguide.com
SUMMARY:第4届Carlsbad啤酒节BrewFest
DESCRIPTION:4th Annual Carlsbad BrewFest\n第4届卡尔斯堡啤酒节 \n9月9日中午12点－下午4:30 \n25家啤酒厂，50多种精酿啤酒，现场音乐和美食，让你陶醉于南加州的美景、美食与美酒。 \nhttp://www.carlsbadbrewfest.org/ \nHoliday Park\n3400 Pio Pico Dr.\, Carlsbad\, California 92008
URL:https://sdfoodguide.com/event/carlsbad-brewfest/
LOCATION:Holiday Park\, 3400 Pio Pico Dr.\, Carlsbad\, California\, 92008\, 美国
CATEGORIES:啤酒节
ATTACH;FMTTYPE=image/jpeg:https://sdfoodguide.com/wp-content/uploads/2016/09/cbadbrewfest3rd-645x340.jpg
END:VEVENT
END:VCALENDAR