BEGIN:VCALENDAR
VERSION:2.0
PRODID:-//圣地亚哥美食指南 - ECPv6.15.18//NONSGML v1.0//EN
CALSCALE:GREGORIAN
METHOD:PUBLISH
X-ORIGINAL-URL:https://sdfoodguide.com
X-WR-CALDESC:圣地亚哥美食指南的活动
REFRESH-INTERVAL;VALUE=DURATION:PT1H
X-Robots-Tag:noindex
X-PUBLISHED-TTL:PT1H
BEGIN:VTIMEZONE
TZID:America/Los_Angeles
BEGIN:DAYLIGHT
TZOFFSETFROM:-0800
TZOFFSETTO:-0700
TZNAME:PDT
DTSTART:20160313T100000
END:DAYLIGHT
BEGIN:STANDARD
TZOFFSETFROM:-0700
TZOFFSETTO:-0800
TZNAME:PST
DTSTART:20161106T090000
END:STANDARD
BEGIN:DAYLIGHT
TZOFFSETFROM:-0800
TZOFFSETTO:-0700
TZNAME:PDT
DTSTART:20170312T100000
END:DAYLIGHT
BEGIN:STANDARD
TZOFFSETFROM:-0700
TZOFFSETTO:-0800
TZNAME:PST
DTSTART:20171105T090000
END:STANDARD
BEGIN:DAYLIGHT
TZOFFSETFROM:-0800
TZOFFSETTO:-0700
TZNAME:PDT
DTSTART:20180311T100000
END:DAYLIGHT
BEGIN:STANDARD
TZOFFSETFROM:-0700
TZOFFSETTO:-0800
TZNAME:PST
DTSTART:20181104T090000
END:STANDARD
END:VTIMEZONE
BEGIN:VEVENT
DTSTART;TZID=America/Los_Angeles:20170513T090000
DTEND;TZID=America/Los_Angeles:20170513T163000
DTSTAMP:20260423T164010
CREATED:20170506T033605Z
LAST-MODIFIED:20170506T033635Z
UID:1807-1494666000-1494693000@sdfoodguide.com
SUMMARY:让妈妈甜蜜在心的朱古力庆典Chocolate Festival
DESCRIPTION:母亲节前夕，圣地亚哥植物园一年一度的朱古力（巧克力）庆典即将举行！给母亲一个甜甜蜜蜜的母亲节。\n2017 Chocolate Festival at San Diego Botanic Garden \n将有10几家朱古力供应商参加庆典，届时您可以品尝不同品种、不同口味的朱古力，还可以亲手制作朱古力。\n众多新鲜制作、口味各异的甜蜜朱古力，会让您无法停嘴，欲罢不能。\n现场有多种体验活动，还有朱古力喷泉和音乐伴奏，适合全家亲子游。 \n凭植物园门票免费入场，然后自行购买$1面额的朱古力兑换券，想吃多少就买多少。
URL:https://sdfoodguide.com/event/sandiego-botanic-garden-chocolate-festival/
LOCATION:San Diego Botanic Garden\, 230 Quail Gardens Drive\, Encinitas\, California\, 90024\, 美国
CATEGORIES:美食节
ATTACH;FMTTYPE=image/jpeg:https://sdfoodguide.com/wp-content/uploads/2017/05/San-Diego-Botanic-Garden-Chocolate-Festival.jpg
END:VEVENT
END:VCALENDAR