BEGIN:VCALENDAR
VERSION:2.0
PRODID:-//圣地亚哥美食指南 - ECPv6.15.18//NONSGML v1.0//EN
CALSCALE:GREGORIAN
METHOD:PUBLISH
X-ORIGINAL-URL:https://sdfoodguide.com
X-WR-CALDESC:圣地亚哥美食指南的活动
REFRESH-INTERVAL;VALUE=DURATION:PT1H
X-Robots-Tag:noindex
X-PUBLISHED-TTL:PT1H
BEGIN:VTIMEZONE
TZID:America/Los_Angeles
BEGIN:DAYLIGHT
TZOFFSETFROM:-0800
TZOFFSETTO:-0700
TZNAME:PDT
DTSTART:20150308T100000
END:DAYLIGHT
BEGIN:STANDARD
TZOFFSETFROM:-0700
TZOFFSETTO:-0800
TZNAME:PST
DTSTART:20151101T090000
END:STANDARD
BEGIN:DAYLIGHT
TZOFFSETFROM:-0800
TZOFFSETTO:-0700
TZNAME:PDT
DTSTART:20160313T100000
END:DAYLIGHT
BEGIN:STANDARD
TZOFFSETFROM:-0700
TZOFFSETTO:-0800
TZNAME:PST
DTSTART:20161106T090000
END:STANDARD
BEGIN:DAYLIGHT
TZOFFSETFROM:-0800
TZOFFSETTO:-0700
TZNAME:PDT
DTSTART:20170312T100000
END:DAYLIGHT
BEGIN:STANDARD
TZOFFSETFROM:-0700
TZOFFSETTO:-0800
TZNAME:PST
DTSTART:20171105T090000
END:STANDARD
BEGIN:DAYLIGHT
TZOFFSETFROM:-0800
TZOFFSETTO:-0700
TZNAME:PDT
DTSTART:20180311T100000
END:DAYLIGHT
BEGIN:STANDARD
TZOFFSETFROM:-0700
TZOFFSETTO:-0800
TZNAME:PST
DTSTART:20181104T090000
END:STANDARD
END:VTIMEZONE
BEGIN:VEVENT
DTSTART;TZID=America/Los_Angeles:20170826T100000
DTEND;TZID=America/Los_Angeles:20170827T170000
DTSTAMP:20260423T145336
CREATED:20170825T213108Z
LAST-MODIFIED:20170825T213108Z
UID:2272-1503741600-1503853200@sdfoodguide.com
SUMMARY:Zion心安超市本周末举行Hyundai现代汽车试驾活动
DESCRIPTION:Zion Market心安超市圣地亚哥店在本周六与周日（26日-27日）两天进行Hyundai现代汽车试驾活动，每日前200位参与者可获得心安超市$20礼品券。 \n心安超市圣地亚哥店在本周六与周日（26日-27日）两天进行Hyundai现代汽车试驾活动，每日前200位参与者可获得心安超市$20礼品券。（图片由Zion Market提供）
URL:https://sdfoodguide.com/event/zionmarket-hyundai-testdrive/
LOCATION:Zion Market\, 7655 Clairemont Mesa Blvd.\, San Diego\, California\, 92111\, 美国
CATEGORIES:其他活动
ATTACH;FMTTYPE=image/jpeg:https://sdfoodguide.com/wp-content/uploads/2017/08/ZionSocial_0824-01.jpg
END:VEVENT
BEGIN:VEVENT
DTSTART;TZID=America/Los_Angeles:20161112T120000
DTEND;TZID=America/Los_Angeles:20161120T200000
DTSTAMP:20260423T145336
CREATED:20161113T212503Z
LAST-MODIFIED:20161113T212548Z
UID:1222-1478952000-1479672000@sdfoodguide.com
SUMMARY:亚洲美食节登陆圣地亚哥汉亚龙H-MART超市
DESCRIPTION:汉亚龙集团H-mart超市（又称韩亚龙）圣地亚哥Mira Mesa分店自11月11日起至11月20日举办“亚洲美食节”（Asian Food Fair），十多家供应商在店内摆摊，介绍产品并提供试吃。 \n该Hmart分店经理Won Kye介绍，这次摆出的摊位包括韩国、中国、越南、日本、菲律宾等多族裔特色商品。很多供货商从外地派人来参加。“美食节”期间，天天都有指定商品推出限量购买的优惠价。 \n美食节活动时间：\n11/12 (周六) 及11/19 (周日)，上午11点至下午6点，抽奖，儿童脸绘等活动。\n11/11 (周五) ~ 11/14 (周一) 及11/17 (周四) ~ 11/20 (周日)，美食试吃摊位。 \n地址：9440 Mira Mesa Blvd\, San Diego\, CA 92126 \nHmart超市圣地亚哥Mira Mesa分店开张已有4年。其商品从生鲜蔬果到生活日常用品，琳琅满目。汉亚龙集团表示，Hmart超市“提供优质新鲜的食材”，并致力“让顾客体验干净整洁的购物环境。”
URL:https://sdfoodguide.com/event/asian-food-fair-sandiego-hmart/
LOCATION:H-Mart Mira Mesa\, 9440 Mira Mesa Blvd\, San Diego\, California\, 92126\, 美国
CATEGORIES:亚洲美食节,美食节
ATTACH;FMTTYPE=image/jpeg:https://sdfoodguide.com/wp-content/uploads/2016/11/1611122016162371.jpg
END:VEVENT
BEGIN:VEVENT
DTSTART;TZID=America/Los_Angeles:20161022T080000
DTEND;TZID=America/Los_Angeles:20161022T220000
DTSTAMP:20260423T145336
CREATED:20161007T052601Z
LAST-MODIFIED:20161007T052621Z
UID:1033-1477123200-1477173600@sdfoodguide.com
SUMMARY:99 Ranch Market大华超市Balboa Ave分店将隆重开业
DESCRIPTION:万众瞩目，大华超市99 Ranch Market在圣地亚哥的第二家分店，Balboa Avenue店，终于将在10月22日星期六早8店正式开业！ \n开幕当天，光顾的前200名客人可凭当天购物的收据换取精美礼袋一份，里面满满的都是惊喜。数量有限，敬请把握机会！ \n另外，还有其他开幕优惠，包括：\n购物满$30，赠“农心炒码王”（家庭装）1包。\n购物满$60，赠“最上橄榄油“（64oz）1瓶。\n购物满$100，赠“东之味长春香米”（10磅装）1包或“最上米”（15磅装）1包。\n此外，还有惊喜奖品送给在场的嘉宾，所有到场的小朋友都可获得可爱动物造型气球1个。\n同时，当天现场还有日本太鼓表演，乐团live音乐等，望社区乡亲共襄盛举！
URL:https://sdfoodguide.com/event/99-ranch-market-balboa-ave-grand-opening/
LOCATION:99 Ranch Market\, 5950 Balboa Avenue\, San Diego\, California\, 92117\, 美国
CATEGORIES:新店开业
ATTACH;FMTTYPE=image/png:https://sdfoodguide.com/wp-content/uploads/2016/10/99ranch-logo-e1475817932283.png
END:VEVENT
END:VCALENDAR