BEGIN:VCALENDAR
VERSION:2.0
PRODID:-//圣地亚哥美食指南 - ECPv6.15.18//NONSGML v1.0//EN
CALSCALE:GREGORIAN
METHOD:PUBLISH
X-WR-CALNAME:圣地亚哥美食指南
X-ORIGINAL-URL:https://sdfoodguide.com
X-WR-CALDESC:圣地亚哥美食指南的活动
REFRESH-INTERVAL;VALUE=DURATION:PT1H
X-Robots-Tag:noindex
X-PUBLISHED-TTL:PT1H
BEGIN:VTIMEZONE
TZID:America/Los_Angeles
BEGIN:DAYLIGHT
TZOFFSETFROM:-0800
TZOFFSETTO:-0700
TZNAME:PDT
DTSTART:20160313T100000
END:DAYLIGHT
BEGIN:STANDARD
TZOFFSETFROM:-0700
TZOFFSETTO:-0800
TZNAME:PST
DTSTART:20161106T090000
END:STANDARD
BEGIN:DAYLIGHT
TZOFFSETFROM:-0800
TZOFFSETTO:-0700
TZNAME:PDT
DTSTART:20170312T100000
END:DAYLIGHT
BEGIN:STANDARD
TZOFFSETFROM:-0700
TZOFFSETTO:-0800
TZNAME:PST
DTSTART:20171105T090000
END:STANDARD
BEGIN:DAYLIGHT
TZOFFSETFROM:-0800
TZOFFSETTO:-0700
TZNAME:PDT
DTSTART:20180311T100000
END:DAYLIGHT
BEGIN:STANDARD
TZOFFSETFROM:-0700
TZOFFSETTO:-0800
TZNAME:PST
DTSTART:20181104T090000
END:STANDARD
END:VTIMEZONE
BEGIN:VEVENT
DTSTART;VALUE=DATE:20170924
DTEND;VALUE=DATE:20171002
DTSTAMP:20260423T151023
CREATED:20161124T134221Z
LAST-MODIFIED:20170502T051635Z
UID:666-1506211200-1506902399@sdfoodguide.com
SUMMARY:2017年秋季圣地亚哥餐馆周Restaurant Week
DESCRIPTION:2017年秋季“圣地亚哥餐馆周”San Diego Restaurant Week将于2017年9月24日至10月1日登场，食客老饕们的盛典又要到了！ \n集中了圣地亚哥的超过180家中高档餐厅，各式西餐应有尽有，一网打尽！包括1500 Ocean，Mille Fleurs，Eddie V’s，Donovan’s，Ruth’s Chris，The Marine Room等顶级餐厅！ \n三道菜的定价套餐Prix-fixe晚餐价格为：每人$20，$30，$40，最高$50。 \n两道菜的定价套餐Prix-fixe午餐价格为：每人$10，$15，最高$20。
URL:https://sdfoodguide.com/event/san-diego-restaurant-week/
LOCATION:多个地点\, San Diego\, California\, 美国
CATEGORIES:美食节
ATTACH;FMTTYPE=image/jpeg:https://sdfoodguide.com/wp-content/uploads/2017/05/sdrw_logo_Sept2017_web.jpg
END:VEVENT
END:VCALENDAR